BEGIN:VCALENDAR
VERSION:2.0
METHOD:PUBLISH
X-WR-CALNAME:Ruahine School |  November 01 2017- December 01 2017 | Filter\: 
PRODID:-//strange bird labs//Drupal iCal API//EN
BEGIN:VEVENT
DTSTAMP;VALUE=DATE-TIME:20180125T162231Z
DTSTART;VALUE=DATE-TIME:20171101T050000Z
DTEND;VALUE=DATE-TIME:20171101T050000Z
UID:http://ruahine.school.nz/bot-meeting-600pm-5
URL;VALUE=URI:http://ruahine.school.nz/bot-meeting-600pm-5
SUMMARY:BoT Meeting 6.00pm
END:VEVENT
BEGIN:VEVENT
DTSTAMP;VALUE=DATE-TIME:20180125T162231Z
DTSTART;VALUE=DATE-TIME:20171106T011500Z
DTEND;VALUE=DATE-TIME:20171106T011500Z
UID:http://ruahine.school.nz/assembly-215pm-lamb-calf-awards
URL;VALUE=URI:http://ruahine.school.nz/assembly-215pm-lamb-calf-awards
SUMMARY:Assembly 2.15pm Lamb & Calf Awards
END:VEVENT
BEGIN:VEVENT
DTSTAMP;VALUE=DATE-TIME:20180125T162231Z
DTSTART;VALUE=DATE-TIME:20171109T232400Z
DTEND;VALUE=DATE-TIME:20171109T232400Z
UID:http://ruahine.school.nz/ruahine-school-athletics-sports-1
URL;VALUE=URI:http://ruahine.school.nz/ruahine-school-athletics-sports-1
SUMMARY:Ruahine School Athletics Sports
END:VEVENT
BEGIN:VEVENT
DTSTAMP;VALUE=DATE-TIME:20180125T162231Z
DTSTART;VALUE=DATE-TIME:20171115T232500Z
DTEND;VALUE=DATE-TIME:20171115T232500Z
UID:http://ruahine.school.nz/inter-school-athletics-sports-1
URL;VALUE=URI:http://ruahine.school.nz/inter-school-athletics-sports-1
SUMMARY:Inter-school Athletics Sports
END:VEVENT
BEGIN:VEVENT
DTSTAMP;VALUE=DATE-TIME:20180125T162231Z
DTSTART;VALUE=DATE-TIME:20171122T231700Z
DTEND;VALUE=DATE-TIME:20171122T231700Z
UID:http://ruahine.school.nz/fictional-character-mufti-day
URL;VALUE=URI:http://ruahine.school.nz/fictional-character-mufti-day
SUMMARY:Fictional Character Mufti Day
END:VEVENT
END:VCALENDAR
