BEGIN:VCALENDAR
VERSION:2.0
METHOD:PUBLISH
X-WR-CALNAME:Ruahine School |  October 01 2017- November 01 2017
PRODID:-//strange bird labs//Drupal iCal API//EN
BEGIN:VEVENT
DTSTAMP;VALUE=DATE-TIME:20180125T162340Z
DTSTART;VALUE=DATE-TIME:20171015T231900Z
DTEND;VALUE=DATE-TIME:20171015T231900Z
UID:http://ruahine.school.nz/term-4-begins-0
URL;VALUE=URI:http://ruahine.school.nz/term-4-begins-0
SUMMARY:Term 4 Begins
END:VEVENT
BEGIN:VEVENT
DTSTAMP;VALUE=DATE-TIME:20180125T162340Z
DTSTART;VALUE=DATE-TIME:20171022T232000Z
DTEND;VALUE=DATE-TIME:20171022T232000Z
UID:http://ruahine.school.nz/labour-day-school-closed-1
URL;VALUE=URI:http://ruahine.school.nz/labour-day-school-closed-1
SUMMARY:Labour Day School Closed
END:VEVENT
BEGIN:VEVENT
DTSTAMP;VALUE=DATE-TIME:20180125T162340Z
DTSTART;VALUE=DATE-TIME:20171024T232100Z
DTEND;VALUE=DATE-TIME:20171024T232100Z
UID:http://ruahine.school.nz/ruahine-school-lamb-calf-day-1
URL;VALUE=URI:http://ruahine.school.nz/ruahine-school-lamb-calf-day-1
SUMMARY:Ruahine School Lamb & Calf Day
END:VEVENT
END:VCALENDAR
